BEGIN:VCALENDAR
PRODID:-//eluceo/ical//2.0/EN
VERSION:2.0
CALSCALE:GREGORIAN
BEGIN:VEVENT
UID:84ac4bd97bc7b0b3aa9a211572b49a7a
DTSTAMP:20260423T162828Z
SUMMARY:Webinář: Výhled dovedností OECD - celoživotní vzdělávání 
DESCRIPTION:Název akce: Webinář: Výhled dovedností OECD - celoživotn
 í vzdělávání \nURL: https://www.spcr.cz/webinar-vyhled-dovednosti-oec
 d-celozivotni-vzdelavani\nPopis: \n\nDovolujeme si Vás pozvat na webiná
 ř k prezentaci nového Výhledu dovedností OECD se zaměřením na celo
 životní vzdělávání - v úterý15/6/2021 od 11-12 hodin. Bude to mim
 o jiné příležitost vidět v akci nového generálního tajemníka OECD
  Mathiase Cormanna\, celkové obsazení panelu je velmi zajímavé. \nWeb
 inář bude podrobně popisovat klíčovou roli\, kterou hrají sociálně
 -emocionální a motivační faktory při formování úspěšného zapoje
 ní do celoživotního učení. \nRegistrace na webinář přístupná na
  tomto odkaze.\n
URL:https://www.spcr.cz/webinar-vyhled-dovednosti-oecd-celozivotni-vzdelava
 ni
DTSTART:20210615T110000
DTEND:20210615T120000
LOCATION:
END:VEVENT
END:VCALENDAR
