BEGIN:VCALENDAR
PRODID:-//eluceo/ical//2.0/EN
VERSION:2.0
CALSCALE:GREGORIAN
BEGIN:VEVENT
UID:8bfccb026bd8cfe27fc5e2a33b78378f
DTSTAMP:20260423T163124Z
SUMMARY:GREEN DEAL – hrozba nebo příležitost?
DESCRIPTION:Název akce: GREEN DEAL – hrozba nebo příležitost?\nURL: h
 ttps://www.spcr.cz/green-deal-hrozba-nebo-prilezitost\nPopis: \n\nČAObH p
 řipravila na červen 2021 unikátní cyklus tří webinářů pod názvem
  GREEN DEAL – hrozba nebo příležitost? pod záštitou Ministerstva 
 průmyslu a obchodu ČR a Ministerstva životního prostředí ČR.\nWebin
 áře se konají 15.\, 22. a 29. 6. 2021.\nJe určen především pro zá
 stupce průmyslu\, kteří zde budou moci diskutovat se zástupci minister
 stev\, Svazu průmyslu a dopravy\, Hospodářské komory. Kromě konkrétn
 ích příkladů z praxe i širšího kontextu a souvislostí jsou přip
 raveny informace o finančním rámci a možnostech čerpání finančníc
 h prostředků.\nProstor na dotazy je samozřejmostí\, možnost navazová
 ní kontaktů mezi účastníky navzájem bonusem našeho cyklu webinář
 ů.\nPřihlásit se můžete zde.\nVíce informací o cyklu webinářů na
 jdete na webu caobh.cz \n
URL:https://www.spcr.cz/green-deal-hrozba-nebo-prilezitost
DTSTART:20210629T090000
DTEND:20210629T130000
LOCATION:
END:VEVENT
END:VCALENDAR
