BEGIN:VCALENDAR
PRODID:-//eluceo/ical//2.0/EN
VERSION:2.0
CALSCALE:GREGORIAN
BEGIN:VEVENT
UID:a42fbe17bcba05747732324944eb96ff
DTSTAMP:20260423T094801Z
SUMMARY:GREEN DEAL – hrozba nebo příležitost?
DESCRIPTION:Název akce: GREEN DEAL – hrozba nebo příležitost?\nURL: h
 ttps://www.spcr.cz/green-deal-hrozba-nebo-prilezitost-1\nPopis: \n\nČAObH
  připravila na červen 2021 unikátní cyklus tří webinářů pod názv
 em GREEN DEAL – hrozba nebo příležitost? pod záštitou Ministerstv
 a průmyslu a obchodu ČR a Ministerstva životního prostředí ČR.\nWeb
 ináře se konají 15.\, 22. a 29. 6. 2021.\nJe určen především pro z
 ástupce průmyslu\, kteří zde budou moci diskutovat se zástupci minist
 erstev\, Svazu průmyslu a dopravy\, Hospodářské komory. Kromě konkré
 tních příkladů z praxe i širšího kontextu a souvislostí jsou př
 ipraveny informace o finančním rámci a možnostech čerpání finančn
 ích prostředků.\nProstor na dotazy je samozřejmostí\, možnost navazo
 vání kontaktů mezi účastníky navzájem bonusem našeho cyklu webiná
 řů.\nPřihlásit se můžete zde.\nVíce informací o cyklu webinářů 
 najdete na webu caobh.cz \n
URL:https://www.spcr.cz/green-deal-hrozba-nebo-prilezitost-1
DTSTART:20210615T090000
DTEND:20210615T130000
LOCATION:
END:VEVENT
END:VCALENDAR
