BEGIN:VCALENDAR
PRODID:-//eluceo/ical//2.0/EN
VERSION:2.0
CALSCALE:GREGORIAN
BEGIN:VEVENT
UID:c3718fae95c3d09ff483237e380cad07
DTSTAMP:20260423T125940Z
SUMMARY:Webinář: Aktuální exportní příležitosti v Kazachstánu a Ky
 rgyzstánu
DESCRIPTION:Název akce: Webinář: Aktuální exportní příležitosti v 
 Kazachstánu a Kyrgyzstánu\nURL: https://www.spcr.cz/webinar-aktualni-exp
 ortni-prilezitosti-v-kazachstanu-kyrgyzstanu\nPopis: \n\nExportní online 
 seminář zaměřený na aktuální situaci a budoucí příležitosti na 
 trzích v Kazachstánu a Kyrgyzstánu v kontextu koronavirových omezení 
 s ředitelem zahraniční kanceláře CzechTrade v Almaty\, Petrem Jurčí
 kem.Anotace:\nÚvodní slovo velvyslance ČR v Nur-Sultanu pana Ing. Rudol
 fa Hykla MPP\nSouhrnné informace o obou zemích\, ekonomické a politick
 é klima\nStávající omezení při cestování do teritoria a realizaci 
 obchodních příležitostí\nAktuální možnosti expanze na kazašský a
  kyrgyzský trh\, rozdíly oproti CZ trhu\nKlíčové sektory s ohledem na
  plánované mise v oblastech: energetika\, strojírenství\, těžba ropy
 \, dobývání nerostů\nJak se připravit pro vstup na trh RADY a TIPY + 
 plánované akce na 2. polovinu roku 2021 a 2022\nSlužby CzechTrade pro e
 xportéry\nOtázky & OdpovědiDo odpovědí na Vaše otázky se zapojí i 
 ekonomický diplomat Velvyslanectví ČR v Nur-Sultanu\n \nRegistrace pro
 bíhá na tomto odkazu.\n \n
URL:https://www.spcr.cz/webinar-aktualni-exportni-prilezitosti-v-kazachstan
 u-kyrgyzstanu
DTSTART:20210610T100000
DTEND:20210610T113000
LOCATION:
END:VEVENT
END:VCALENDAR
