BEGIN:VCALENDAR
PRODID:-//eluceo/ical//2.0/EN
VERSION:2.0
CALSCALE:GREGORIAN
BEGIN:VEVENT
UID:ee9a739f2cfde04faaaedef51edf12a7
DTSTAMP:20260423T150254Z
SUMMARY:Online konference: Obchodní příležitosti v leteckém průmyslu 
 v Asii (THAJSKO a INDIE)
DESCRIPTION:Název akce: Online konference: Obchodní příležitosti v let
 eckém průmyslu v Asii (THAJSKO a INDIE)\nURL: https://www.spcr.cz/online
 -konference-obchodni-prilezitosti-v-leteckem-prumyslu-v-asii-thajsko-indie
 \nPopis: \n\nKonferenci organizuje Česká agentura na podporu obchodu/Cze
 chTrade ve spolupráci s Leteckou amatérskou asociací ČR a Asociací le
 teckých a kosmických výrobců ČR.Program konference:Úvodní slovo\n\n
 Jan Fridrich\, vicepresident pro zahraniční záležitosti\, průmysl a v
 nitřní audit Letecké amatérské asociace ČR a člen představenstva A
 sociace leteckých a kosmických výrobců ČR\n\nThajsko\n\nPetr Slowik\,
  vedoucí zahraniční kanceláře CzechTrade v Thajsku\n\nobchodní př
 íležitosti v leteckém průmyslu v Thajsku\n\n\nPrezentace zahraničníh
 o hosta\n\nIndie\n\nIvan Kameník\, vedoucí zahraniční kanceláře Czec
 hTrade v Bengalúru\nLuboš Ulč\, vedoucí zahraniční kanceláře Czec
 hTrade v Mumbaí  \n\nobchodní příležitosti v leteckém průmyslu v
  Indii\n\n\nPrezentace zahraničního hosta\n\nDiskuze\, Otázky a odpov
 ědiPozn.: Prezentace zahraničních hostů bude v anglickém jazyce\, bez
  tlumočení.Pro koho je akce určena:Pro české firmy ze širokého spek
 tra leteckého (a kosmického) průmyslu\; od kompletní výroby letadel\,
  jejich částí (motory\, vrtule\, avionika\, elektronika\, hydraulika\, 
 záchranné systémy)\, přes design\, testování\, společný vývoj a v
 ýzkum\, výcvik pilotů\, metodologii\, řešení pro letiště\, až po 
 certifikaci a další.\nDůležité:\n\nK účasti na online konferenci po
 třebujete pouze PC\, notebook či telefon s internetovým připojením.\n
 Den před konáním akce obdržíte e-mailem prolink na danou akci.\nAkce 
 pokračuje v následujících termínech:\n\n15.6.21 teritoria: Singapur\,
  Čína\n17.6.21 teritoria: Vietnam\, Indonésie\n\n\n\n\nOnline konferenc
 e jsou součástí nově vznikajícího projektu „Czech Aviation A-Z So
 lution for Asia x CzechTrade“ k podpoře propagace širokého spektra 
 českého leteckého (a kosmického) průmyslu. Výstupy zahraničních ka
 nceláří agentury CzechTrade v Asii na otázky/ zadání Letecké amat
 érské asociace ČR a Asociace leteckých a kosmických výrobců ČR ke 
 stažení zde od 10. června 2021.\n\nÚčast na akci je bezplatná.\n
URL:https://www.spcr.cz/online-konference-obchodni-prilezitosti-v-leteckem-
 prumyslu-v-asii-thajsko-indie
DTSTART:20210622T090000
DTEND:20210622T110000
LOCATION:
END:VEVENT
END:VCALENDAR
