BEGIN:VCALENDAR
PRODID:-//eluceo/ical//2.0/EN
VERSION:2.0
CALSCALE:GREGORIAN
BEGIN:VEVENT
UID:9983dd01bd53dd44102622de4804d6e3
DTSTAMP:20260423T214553Z
SUMMARY:Online konference: Obchodní příležitosti v leteckém průmyslu 
 v Asii (VIETNAM a INDONÉSIE)
DESCRIPTION:Název akce: Online konference: Obchodní příležitosti v let
 eckém průmyslu v Asii (VIETNAM a INDONÉSIE)\nURL: https://www.spcr.cz/o
 nline-konference-obchodni-prilezitosti-v-leteckem-prumyslu-v-asii-vietnam-
 indonesie\nPopis: \n\nSérie online konferencí na téma obchodních pří
 ležitostí v různých spektrech leteckého (a kosmického průmyslu) v A
 sii\, se zaměřením na Singapur\, Čínu\, Vietnam\, Indonésii\, Thajsk
 o a Indii.Konferenci organizuje Česká agentura na podporu obchodu/CzechT
 rade ve spolupráci s Leteckou amatérskou asociací ČR a Asociací letec
 kých a kosmických výrobců ČR.Program:Úvodní slovo\n\nJan Fridrich\,
  vicepresident pro zahraniční záležitosti\, průmysl a vnitřní audit
  Letecké amatérské asociace ČR a člen představenstva Asociace leteck
 ých a kosmických výrobců ČR\n\nVietnam\n\nIvan Nikl\, vedoucí zahra
 niční kanceláře CzechTrade ve Vietnamu\n\nobchodní příležitosti v 
 leteckém průmyslu ve Vietnamu\n\n\nPrezentace zahraničního hosta\n\nIn
 donésie\n\nMichal Sontodinomo\, vedoucí zahraniční kanceláře CzechTr
 ade v Indonésii\n\nobchodní příležitosti v leteckém průmyslu v Ind
 onésii\n\n\n\nDiskuze\, Otázky a odpovědi Pozn.: Prezentace zahraničn
 ích hostů bude v anglickém jazyce\, bez tlumočení.\nPro koho je akce 
 určena:Pro české firmy ze širokého spektra leteckého (a kosmického)
  průmyslu\; od kompletní výroby letadel\, jejich částí (motory\, vrt
 ule\, avionika\, elektronika\, hydraulika\, záchranné systémy)\, přes 
 design\, testování\, společný vývoj a výzkum\, výcvik pilotů\, met
 odologii\, řešení pro letiště\, až po certifikaci a další.\nDůle
 žité:\n\nK účasti na online konferenci potřebujete pouze PC\, noteboo
 k či telefon s internetovým připojením.\nDen před konáním akce obdr
 žíte e-mailem prolink na danou akci.\nAkce pokračuje v následujících
  termínech:\n\n15.6.21 teritoria: Singapur\, Čína\n22.6.21 teritoria: 
 Thajsko\, Indie\n\n\n\n\nOnline konference jsou součástí nově vznikaj
 ícího projektu „Czech Aviation A-Z Solution for Asia x CzechTrade“
  k podpoře propagace širokého spektra českého leteckého (a kosmick
 ého) průmyslu. Výstupy zahraničních kanceláří agentury CzechTrade 
 v Asii na otázky/ zadání Letecké amatérské asociace ČR a Asociace 
 leteckých a kosmických výrobců ČR ke stažení zde od 10. června 20
 21.\n\nÚčast na akci je bezplatná. \n
URL:https://www.spcr.cz/online-konference-obchodni-prilezitosti-v-leteckem-
 prumyslu-v-asii-vietnam-indonesie
DTSTART:20210617T090000
DTEND:20210617T110000
LOCATION:
END:VEVENT
END:VCALENDAR
