BEGIN:VCALENDAR
PRODID:-//eluceo/ical//2.0/EN
VERSION:2.0
CALSCALE:GREGORIAN
BEGIN:VEVENT
UID:ae30d6186a5bc409fece1b8d52c4c341
DTSTAMP:20260423T125843Z
SUMMARY:Česko - portugalské ekonomické fórum - online včetně B2B
DESCRIPTION:Název akce: Česko - portugalské ekonomické fórum - online 
 včetně B2B\nURL: https://www.spcr.cz/cesko-portugalske-ekonomicke-forum-
 online-vcetne-b2b-0\nPopis: \n\nZveme Vás na Česko - portugalské ekonom
 ické fórum včetně B2B.\nVíce informací\n
URL:https://www.spcr.cz/cesko-portugalske-ekonomicke-forum-online-vcetne-b2
 b-0
DTSTART:20210608T100000
DTEND:20210608T235959
LOCATION:
END:VEVENT
END:VCALENDAR
