BEGIN:VCALENDAR
PRODID:-//eluceo/ical//2.0/EN
VERSION:2.0
CALSCALE:GREGORIAN
BEGIN:VEVENT
UID:b8924d2bec2f3a5333d581c0ac9708a9
DTSTAMP:20260423T125131Z
SUMMARY:Grow Export: Pomáháme Česku růst
DESCRIPTION:Název akce: Grow Export: Pomáháme Česku růst\nURL: https:/
 /www.spcr.cz/grow-export-pomahame-cesku-rust\nPopis: \n\nGoogle ČR spouš
 tí novou iniciativu zaměřenou na podporu českého exportu a zve vás n
 a online konferenci Grow Export: Pomáháme Česku růst\, organizovanou s
 polečně s partnery Svazem průmyslu a dopravy ČR a Asociací malých a 
 středních podniků a živnostníků ČR.\nKonference se uskuteční ve 
 čtvrtek 20.5.2021\, od 10:00 - 11:00 hod.\nNa konferenci vystoupí odborn
 íci z oblasti mezinárodního obchodu\, strategického a digitálního ma
 rketingu a také úspěšní čeští exportéři\, kteří se podělí o 
 byznysová doporučení pro začínající exportéry:\n\nLukáš Martin -
  Ředitel Sekce mezinárodních vztahů\, Svaz průmyslu a dopravy ČR\nPa
 vel Fára - Zástupce ředitele Sekce mezinárodních vztahů\, Svaz prům
 yslu a dopravy ČR\nEvžen Reitschläger - Místopředseda představenstva
 \, AMSP ČR\nSimona Kijonková - CEO skupiny Packeta a zakladatelka Zásil
 kovny\nPetr Šmíd - Head of Brand & Consumer Marketing\, Google CEE\nKate
 řina Havrlant - Marketing Director\, Google EMEA\nKateřina Bílková - C
 EO společnosti 4home\nVáclav Vácha - CBO společnosti Top4sport\nŠtěp
 ánka Pospíšilová - CMO společnosti Sanitino\n\nPodrobnosti konference
  a registrace: https://goo.gle/GrowExport\n
URL:https://www.spcr.cz/grow-export-pomahame-cesku-rust
DTSTART:20210520T100000
DTEND:20210520T110000
LOCATION:
END:VEVENT
END:VCALENDAR
