BEGIN:VCALENDAR
PRODID:-//eluceo/ical//2.0/EN
VERSION:2.0
CALSCALE:GREGORIAN
BEGIN:VEVENT
UID:3606cd55ca958ed15aa3cf4957578ba4
DTSTAMP:20260423T174501Z
SUMMARY:Webinář o vodohospodářství ve Středomoří se zaměřením na
  Itálii a Maroko
DESCRIPTION:Název akce: Webinář o vodohospodářství ve Středomoří s
 e zaměřením na Itálii a Maroko\nURL: https://www.spcr.cz/webinar-o-vod
 ohospodarstvi-ve-stredomori-se-zamerenim-na-italii-maroko\nPopis: \n\nVe s
 polupráci s RHK Brno Ministerstvo zahraničních věcí ČR ve čtvrtek 
 27. května 2021 pořádá online seminář pro české firmy se zaměřen
 ím na oblast vody a její úpravy\, odpadní vody a odpadové hospodářs
 tví\, recyklaci\, cirkulární ekonomiku\, životní prostředí a souvis
 ející obory.V úvodu webináře se bude sektoru vodohospodářství vě
 novat hlavní ekonom Ministerstva zahraničních věcí ČR Marek Pyszko\,
  který představí potenciálně zajímavé cílové země pro tento obor
  z pohledu českého exportu. Odbor ekonomické diplomacie Ministerstvo z
 ahraničních věcí ČR následně přiblíží projekty\, které na podp
 oru aktivit českých firem v tomto odvětví realizuje.Krajský exportn
 í specialista Oto Hrdlička pak představí služby RHK Brno na podporu i
 nternacionalizace a související akce a projekty v těchto branžích. M
 ezi ně patří např.  iniciativa  RHK Brno  „GoGreen“\, záměr 
 podzimní podnikatelské mise jihomoravských firem do Itálie\, pozván
 í k účasti na středomořském veletrhu MEDIBAT\, nebo online kooperač
 ní B2B platformy „Virtual International Partnering – Innovation in E
 nvironment & Energy & Circular Economy“ a „VIRTUAL BROKERAGE EVENT @ 
 INNOVATION VILLAGE 2021“\, které do 30. června 2021 nabízí českým 
 firmám příležitost najít obchodní a výzkumné partnery v oblasti v
 ody a její úpravy\, odpadních vod a odpadového hospodářství\, energ
 etické účinnosti\, recyklace\, cirkulární ekonomiky i souvisejících
  branží a realizovat bilaterální schůzky ve virtuální formě. .Na w
 ebináři následně vystoupí ekonomický diplomat velvyslanectví ČR v
  Itálii Marcel Sauer a ekonomický diplomat velvyslanectví ČR v Marok
 u Jan Hladík\, kteří budou prezentovat konkrétní obchodní příleži
 tosti v sektoru vodohospodářství a představí také nejvýznamnějš
 í akce v regionu\, na které se mohou české firmy přihlásit.Webiná
 ř je určený českým firmám a podnikatelům ze všech regionů a jeho 
 sledování je zdarma po předchozí registraci.Více informací:https://w
 ww.export.cz/akce/vodohospodarstvi/Registrace:https://event.webinarjam.com
 /register/239/8vr6qblo\n
URL:https://www.spcr.cz/webinar-o-vodohospodarstvi-ve-stredomori-se-zameren
 im-na-italii-maroko
DTSTART:20210527T100000
DTEND:20210527T235959
LOCATION:
END:VEVENT
END:VCALENDAR
