BEGIN:VCALENDAR
PRODID:-//eluceo/ical//2.0/EN
VERSION:2.0
CALSCALE:GREGORIAN
BEGIN:VEVENT
UID:2637785389f0d0a01d5a9674a54f1d36
DTSTAMP:20260423T130810Z
SUMMARY:Webinář Jihovýchodní Asie a Austrálie: obchodní příležitos
 ti v politickém kontextu
DESCRIPTION:Název akce: Webinář Jihovýchodní Asie a Austrálie: obchod
 ní příležitosti v politickém kontextu\nURL: https://www.spcr.cz/webin
 ar-jihovychodni-asie-australie-obchodni-prilezitosti-v-politickem-kontextu
 \nPopis: \n\nNáměstek ministra zahraničních věcí ČR Martin Tlapa V
 ás zve na webinář Jihovýchodní Asie a Austrálie: obchodní přílež
 itosti v politickém kontextu. Webinář se bude konat v úterý 18. květ
 na 2021 v 10:00 hodin SELČ.Na webináři vystoupí náměstek ministra za
 hraniční Martin Tlapa společně s českými velvyslanci v Bangkoku a Ca
 nbeře Markem Libřickým a Tomášem Dubem\, ekonomickým diplomatem v Ha
 noji Davidem Jarkulischem\, hlavním ekonomem MZV Markem Pyszkem a obchodn
 ím ředitelem společnosti LINET pro export Petrem Foitem.Cílem webiná
 ře je přiblížit českým podnikatelům aktuální situaci v regionu v 
 politicko-ekonomickém kontextu s důrazem na regionální specifika\, obc
 hodní vztahy\, regionální ekonomická uskupení a bariéry obchodu. Vys
 tupující budou debatovat o nutnosti trvalé přítomnosti v regionu\, ja
 kožto klíči k úspěšnému působení na trzích Jihovýchodní Asie a
  Austrálie\, ke kterému napomáhá program Projekty na podporu ekonomick
 ých aktivit – PROPEA. Praktické zkušenosti v regionu z firemního poh
 ledu přinese zástupce firmy LINET.Sledování webináře je zdarma po p
 ředchozí registraci.Více informací: https://www.export.cz/akce/jv-asi
 e-australie/Registrace: https://event.webinarjam.com/register/241/1n0kvu7
 p\n
URL:https://www.spcr.cz/webinar-jihovychodni-asie-australie-obchodni-prilez
 itosti-v-politickem-kontextu
DTSTART:20210518T100000
DTEND:20210518T235959
LOCATION:
END:VEVENT
END:VCALENDAR
