BEGIN:VCALENDAR
PRODID:-//eluceo/ical//2.0/EN
VERSION:2.0
CALSCALE:GREGORIAN
BEGIN:VEVENT
UID:e8002a013d34fe8f0c8fb448ec640cf8
DTSTAMP:20260424T071413Z
SUMMARY:Solární energie a akumulace 2021
DESCRIPTION:Název akce: Solární energie a akumulace 2021\nURL: https://w
 ww.spcr.cz/solarni-energie-akumulace-2021\nPopis: \n\nZúčastněte se pá
 tého ročníku prestižní konference SOLÁRNÍ ENERGIE A AKUMULACE V Č
 R\, která je největší událostí roku zasvěcená solární energetice
  a akumulaci.\nRok 2021 je klíčovým ​pro moderní energetiku z hledis
 ka zákona o podporovaných zdrojích energie\, nového energetického zá
 kona\, kontrol přiměřenosti podpory a startu Modernizačního fondu. Ch
 cete vědět co vás čeká v příštím desetiletí? Se svými příspě
 vky vystoupí špičkoví přednášející z řad politické reprezentace
 \, ministerstev i odborníků z byznysu a praxe. Součástí programu je i
  doprovodný program skýtající možnost neformálního setkání a nav
 ázání kontaktů.\n\nPodrobný program a registrace zde. Konference prob
 ěhne v online formě.\n\nPro členy SP ČR platí sleva 10 %\, napište s
 i o slevový kupón na ogbelec@spcr.cz\n
URL:https://www.spcr.cz/solarni-energie-akumulace-2021
DTSTART:20210525T100000
DTEND:20210525T151500
LOCATION:
END:VEVENT
END:VCALENDAR
