BEGIN:VCALENDAR
PRODID:-//eluceo/ical//2.0/EN
VERSION:2.0
CALSCALE:GREGORIAN
BEGIN:VEVENT
UID:b815731029609a3cfae435409c0afcf8
DTSTAMP:20260423T145023Z
SUMMARY:Konference Umělá inteligence 2021
DESCRIPTION:Název akce: Konference Umělá inteligence 2021\nURL: https://
 www.spcr.cz/konference-umela-inteligence-2021\nPopis: \n\nZveme vám na ko
 nferenci Umělá inteligence 2021\, které Svaz průmyslu a dopravy ČR ud
 ělil záštitu.\nTřetí ročník odborné konference nabídne přednáš
 ky odborníků z technologických firem\, akademické sféry i Ministerstv
 a průmyslu a obchodu ČR. Konat se bude online.\nHlavním akcelerátorem 
 změn v byznysu se bohužel stal Covid-19\, který přinesl organizacím s
 poustu provozních výzev a mění rozložení sil na trhu. Jak dokážou 
 strojové učení\, umělá inteligence a na nich postavená automatizace 
 pomáhat lidem zvládat současnou situaci?\nTematicky konference pokryje 
 praktický přínos technologií umělé inteligence v softwarových nást
 rojích pro podporu řízení a rozhodování\, automatizaci provozu\, v k
 ybernetické bezpečnosti či IT. Dotkne se také vývoje v oblasti legisl
 ativy ošetřující využití AI v organizacích.\nÚčast na konferenci 
 je zdarma. Registrujte se zde. Více informací najdete na webu konference
 .\n
URL:https://www.spcr.cz/konference-umela-inteligence-2021
DTSTART:20210520T090000
DTEND:20210520T140000
LOCATION:
END:VEVENT
END:VCALENDAR
