BEGIN:VCALENDAR
PRODID:-//eluceo/ical//2.0/EN
VERSION:2.0
CALSCALE:GREGORIAN
BEGIN:VEVENT
UID:026edd83769b6dac401118cc63a4b5f9
DTSTAMP:20260423T130319Z
SUMMARY: Online seminář: Úspěšná expanze do Nizozemska a založení s
 polečnosti
DESCRIPTION:Název akce:  Online seminář: Úspěšná expanze do Nizozems
 ka a založení společnosti\nURL: https://www.spcr.cz/online-seminar-uspe
 sna-expanze-do-nizozemska-zalozeni-spolecnosti\nPopis: \n\nAnotace online 
 teritoriálního semináře pořádaného CzechTrade:\n\nPrognózy vývoje
  ekonomiky a výhledy obchodních příležitostí\n(Post)kovidová situac
 e na nizozemském trhu a její vliv na ekonomiku země\nZaložení společ
 nosti v Nizozemsku\n\nVýhody existence společnosti v Nizozemsku v kontex
 tu českého subjektu\nTypy místních I zahraničních společností\nFin
 anční náročnost – daně\, náklady na provoz\, související povinn
 é služby a jejich cenový rámec\nZaložení bankovního účtu\n“lett
 erbox” společnosti – výhody a nevýhody\nDoporučení a tipy\n\n\nSl
 užby CzechTrade pro exportéry\nOtázky a Odpovědi\n\nK jednotlivým té
 matům se vyjádří odborníci – ředitelka zahraniční kanceláře C
 zechTrade v Nizozemsku Andrea Märzová\, majitel účetní a daňové kan
 celáře v Rotterdamu\, zástupce spolupracující notářské kanceláře
  z Amsterdamu a expert na korporátní právo.Důležité:\n\nSvé dotazy 
 k tématu můžete zaslat před online seminářem prostřednictvím přih
 lášky\, nebo prostřednictvím chatu na akci.\nDen před konáním akce 
 Vám e-mailem zašleme prolink na danou akci.\nK účasti na online semin
 áři potřebujete pouze PC\, notebook či telefon s internetovým připoj
 ením.\nAkce je ZDARMA.\nÚčastníci se mohou aktivně zapojit prostředn
 ictvím dotazů nebo být pasivními posluchači                 
                               \n
URL:https://www.spcr.cz/online-seminar-uspesna-expanze-do-nizozemska-zaloze
 ni-spolecnosti
DTSTART:20210602T100000
DTEND:20210602T113000
LOCATION:
END:VEVENT
END:VCALENDAR
