BEGIN:VCALENDAR
PRODID:-//eluceo/ical//2.0/EN
VERSION:2.0
CALSCALE:GREGORIAN
BEGIN:VEVENT
UID:0df597f1cc875415f28ba2dabff59b45
DTSTAMP:20260423T130212Z
SUMMARY:Konference k obchodním příležitostem v zemích Východního par
 tnerství a Střední Asie
DESCRIPTION:Název akce: Konference k obchodním příležitostem v zemích
  Východního partnerství a Střední Asie\nURL: https://www.spcr.cz/konf
 erence-k-obchodnim-prilezitostem-v-zemich-vychodniho-partnerstvi-stredni-a
 sie-0\nPopis: \n\nRádi bychom Vás pozvali na konferenci Business Opport
 unities in Energy and Connectivity: Eastern Partnership and Central Asia\,
  která se bude věnovat obchodním příležitostem v zemích Východníh
 o partnerství a Střední Asie. Konference se zaměří především na a
 ktuální investiční projekty v oblasti energetiky a dopravy\, které sk
 ýtají možnosti pro účast soukromého sektoru. Na konferenci budou ta
 ké představeny plány na budoucí modernizační projekty především 
 v souvislosti s dekarbonizací\, obnovitelnými zdroji a digitalizací.\n
 Konference se uskuteční 18. května od 9:30 prostřednictvím on-line p
 latformy Eventtia. Na akci vystoupí ministr průmyslu a obchodu Karel Ha
 vlíček\, náměstci ministra průmyslu a obchodu a dopravy\, viceprezide
 nt Svazu průmyslu a dopravy František Chaloupecký\, zástupci Evropské
  komise (DG NEAR\, DG ENER) a v neposlední řadě vysocí představitelé
  jednotlivých států Východního partnerství a Střední Asie. Konfere
 nci pořádá Ministerstvo průmyslu a obchodu ve spolupráci s Ministerst
 vem dopravy\, Evropskou komisí a Svazem průmyslu a dopravy.Předběžná
  verze programu je k dispozici ke stažení na tomto odkazu. Pro aktuál
 ní změny a potrzené řečníky pak doporučujeme sledovat oficiální s
 tránku konference na platformě Eventtia\, na které také probíhá reg
 istrace. Účastníci budou mít možnost klást dotazy písemnou formou.
 \n
URL:https://www.spcr.cz/konference-k-obchodnim-prilezitostem-v-zemich-vycho
 dniho-partnerstvi-stredni-asie-0
DTSTART:20210518T093000
DTEND:20210518T130000
LOCATION:
END:VEVENT
END:VCALENDAR
