BEGIN:VCALENDAR
PRODID:-//eluceo/ical//2.0/EN
VERSION:2.0
CALSCALE:GREGORIAN
BEGIN:VEVENT
UID:540babe9580cf31af542186c5d874f48
DTSTAMP:20260423T125850Z
SUMMARY:ONLINE SEMINÁŘ: Aktuální možnosti expanze na ITALSKÝ trh
DESCRIPTION:Název akce: ONLINE SEMINÁŘ: Aktuální možnosti expanze na 
 ITALSKÝ trh\nURL: https://www.spcr.cz/online-seminar-aktualni-moznosti-ex
 panze-na-italsky-trh\nPopis: \n\nExportní online seminář zaměřený na
  novinky na italském trhu s ředitelem zahraniční kanceláře CzechTrad
 e v Itálii\, Markem Atanasčevem – ŽIVĚ.\nVíce informací a registra
 ce\n
URL:https://www.spcr.cz/online-seminar-aktualni-moznosti-expanze-na-italsky
 -trh
DTSTART:20210525T140000
DTEND:20210525T153000
LOCATION:
END:VEVENT
END:VCALENDAR
