BEGIN:VCALENDAR
PRODID:-//eluceo/ical//2.0/EN
VERSION:2.0
CALSCALE:GREGORIAN
BEGIN:VEVENT
UID:bf13ab018cb2efa17f643e1424a0bd7e
DTSTAMP:20260423T193624Z
SUMMARY:Online seminář: Aktuální možnosti exportu do BULHARSKA
DESCRIPTION:Název akce: Online seminář: Aktuální možnosti exportu do 
 BULHARSKA\nURL: https://www.spcr.cz/online-seminar-aktualni-moznosti-expor
 tu-do-bulharska\nPopis: \n\nAktuální zpravodajství a praktické informa
 ce pro české firmy od ředitele zahraniční kanceláře CzechTrade v Bu
 lharsku\, Martina Hlavničky - ŽIVĚ\nVíce informací a registrace\n
URL:https://www.spcr.cz/online-seminar-aktualni-moznosti-exportu-do-bulhars
 ka
DTSTART:20210520T100000
DTEND:20210520T113000
LOCATION:
END:VEVENT
END:VCALENDAR
