BEGIN:VCALENDAR
PRODID:-//eluceo/ical//2.0/EN
VERSION:2.0
CALSCALE:GREGORIAN
BEGIN:VEVENT
UID:288a0b1d116ba7e74a77217525b8e026
DTSTAMP:20260423T162828Z
SUMMARY:Indie – webinář o obchodních příležitostech pro české fir
 my
DESCRIPTION:Název akce: Indie – webinář o obchodních příležitostec
 h pro české firmy\nURL: https://www.spcr.cz/indie-webinar-o-obchodnich-p
 rilezitostech-pro-ceske-firmy\nPopis: \n\nMinisterstvo zahraničních věc
 í organizuje webinář pro české firmy a podnikatele k obchodním pří
 ležitostem v Indii\, který se bude konat ve čtvrtek 13. května 2021 ve
  14:00 hodin SELČ.   Na webináři vystoupí ekonomičtí diplomaté če
 ské ambasády v Dillí Jakub Jaroš a Milan Dostál a zprostředkují vá
 m informace o konkrétních obchodních příležitostech\, perspektivníc
 h oborech podnikání\, kultuře obchodního jednání a také aktuální 
 informace v souvislosti s pandemií covid-19.  Sledování webináře je z
 darma po předchozí registraci.\nVíce informací: https://www.export.cz/
 akce/indie/\n
URL:https://www.spcr.cz/indie-webinar-o-obchodnich-prilezitostech-pro-ceske
 -firmy
DTSTART:20210513T140000
DTEND:20210513T160000
LOCATION:
END:VEVENT
END:VCALENDAR
