BEGIN:VCALENDAR
PRODID:-//eluceo/ical//2.0/EN
VERSION:2.0
CALSCALE:GREGORIAN
BEGIN:VEVENT
UID:78643f01ca18306fe81eee54ae9a37ea
DTSTAMP:20260423T130647Z
SUMMARY:Webinář o obchodních příležitostech pro české firmy v Liban
 onu a Jordánsku 
DESCRIPTION:Název akce: Webinář o obchodních příležitostech pro čes
 ké firmy v Libanonu a Jordánsku \nURL: https://www.spcr.cz/webinar-o-obc
 hodnich-prilezitostech-pro-ceske-firmy-v-libanonu-jordansku\nPopis: \n\nMi
 nisterstvo zahraničních věcí organizuje webinář pro české firmy a 
 podnikatele k obchodním příležitostem v Libanonu a Jordánsku\, který
  se bude konat ve středu 5. května 2021 v 10:00 hodin SELČ. Na webiná
 ři vystoupí diplomaté českých ambasád v Bejrútu – ekonomická dip
 lomatka Lýdie Skolilová a zemědělský diplomat Petr Sochor a v Ammánu
  – ekonomická diplomatka Zuzana Benešová a zprostředkují vám infor
 mace o konkrétních obchodních příležitostech\, perspektivních obore
 ch podnikání\, kultuře obchodního jednání a také aktuální informa
 ce v souvislosti s pandemií covid-19.\nSledování webináře je zdarma p
 o předchozí registraci.\nVíce informací: https://www.export.cz/akce/li
 banon-jordansko/Registrace: https://event.webinarjam.com/register/228/vyo5
 gulw\n
URL:https://www.spcr.cz/webinar-o-obchodnich-prilezitostech-pro-ceske-firmy
 -v-libanonu-jordansku
DTSTART:20210505T100000
DTEND:20210505T110000
LOCATION:
END:VEVENT
END:VCALENDAR
