BEGIN:VCALENDAR
PRODID:-//eluceo/ical//2.0/EN
VERSION:2.0
CALSCALE:GREGORIAN
BEGIN:VEVENT
UID:10e93e4f8dff622b9e1c6bda1f333de0
DTSTAMP:20260423T150246Z
SUMMARY:Webinář Letecký a kosmický průmysl - příležitosti pro česk
 é firmy nejen v USA a Kanadě
DESCRIPTION:Název akce: Webinář Letecký a kosmický průmysl - příle
 žitosti pro české firmy nejen v USA a Kanadě\nURL: https://www.spcr.cz
 /webinar-letecky-kosmicky-prumysl-prilezitosti-pro-ceske-firmy-nejen-v-usa
 -kanade\nPopis: \n\nVe spolupráci s RHK Brno pořádá Ministerstvo zahra
 ničních věcí České republiky ve čtvrtek 6. května 2021 od 15:00 ho
 din online seminář pro české firmy se zaměřením na letectví\, vesm
 írný průmysl a související obory.\nV úvodu webináře se bude sekto
 ru aerospace věnovat hlavní ekonom Ministerstva zahraničních věcí Č
 R Marek Pyszko\, který představí potenciálně zajímavé cílové zem
 ě pro tyto obory z pohledu českého exportu. Odbor ekonomické diplomac
 ie následně přiblíží projekty\, které na podporu aktivit českých 
 firem v tomto odvětví realizuje.  Krajský exportní specialista Oto Hr
 dlička pak představí služby RHK Brno na podporu internacionalizace a s
 ouvisející akce a projekty určené především pro podnikatele z Jiho
 moravského kraje.  Petr Tomášek z Moravského leteckého klastru (MLK) 
 představí dlouhodobé aktivity MLK v tomto regionu a příležitosti u c
 ílových zákazníků. Seznámí s evropským projektem\, který do těch
 to států cílí a také možnosti propagace a organizace business misí.
   Na webináři následně vystoupí vedoucí obchodně-ekonomického úse
 ku velvyslanectví ČR ve Washingtonu Jiří Janíček\, ekonomický diplo
 mat generálního konzulátu ČR v Chicagu Tomáš Trnka a ekonomický di
 plomat velvyslanectví České republiky v Ottawě Jan Kubačka\, kteří
  budou prezentovat konkrétní obchodní příležitosti v sektoru aerosp
 ace a představí také nejvýznamnější akce v regionu\, na které se 
 mohou české firmy přihlásit.  Webinář je určený českým firmám a
  podnikatelům ze všech regionů a jeho sledování je zdarma po předcho
 zí registraci.\nVíce informací: https://www.export.cz/akce/letecky-us-c
 a/\n
URL:https://www.spcr.cz/webinar-letecky-kosmicky-prumysl-prilezitosti-pro-c
 eske-firmy-nejen-v-usa-kanade
DTSTART:20210506T150000
DTEND:20210506T170000
LOCATION:
END:VEVENT
END:VCALENDAR
