BEGIN:VCALENDAR
PRODID:-//eluceo/ical//2.0/EN
VERSION:2.0
CALSCALE:GREGORIAN
BEGIN:VEVENT
UID:b1d0123dc94146f0a86adae9b9d28816
DTSTAMP:20260423T192819Z
SUMMARY:Online seminář: Jak na úspěšný export do MAĎARSKA
DESCRIPTION:Název akce: Online seminář: Jak na úspěšný export do MA
 ĎARSKA\nURL: https://www.spcr.cz/online-seminar-jak-na-uspesny-export-do-
 madarska\nPopis: \n\nMaďarská republika patří k tradičním zahraničn
 ě-obchodním partnerům České republiky. Maďarská ekonomika a její 
 domácí produkce jsou do jisté míry limitovány velikostí svého trhu.
  Domácí koupěschopná poptávka je tedy v některých směrech odká
 zána na dovoz zboží z dalších států\, což ve spojení s dobrým za
 vedením českého zboží představuje pro naše exportéry příležito
 sti pro uplatnění svých výrobků.Perspektivy maďarského trhu předst
 vaví vedoucí zahraniční kanceláře v Maďarsku\, Dóra Egressy.Anota
 ce:\n\nSoučasná ekonomická situace a výhledy budoucího vývoje\nAkt
 uální exportní příležitosti\nDlouhodobě perspektivní obory\nPrakti
 cké informace\, rady a tipy pro úspěšný export\nJak na hledání obch
 odního partnera – specifika maďarského trhu\nSlužby CzechTrade pro e
 xportéry \n\nProstor na Vaše dotazy bude v závěrečné části semin
 áře - Q&A.Obecné informace:\n\nSvé dotazy k tématu můžete zaslat p
 řed online seminářem prostřednictvím přihlášky\, nebo prostřednic
 tvím chatu na akci.\nDen před konáním akce Vám e-mailem zašleme prol
 ink na danou akci.\nK účasti na online semináři potřebujete pouze PC\
 , notebook či telefon s internetovým připojením.\nAkce je ZDARMA.\nÚ
 častníci se mohou aktivně zapojit prostřednictvím dotazů nebo být p
 asivními posluchači\n
URL:https://www.spcr.cz/online-seminar-jak-na-uspesny-export-do-madarska
DTSTART:20210519T100000
DTEND:20210519T113000
LOCATION:
END:VEVENT
END:VCALENDAR
