BEGIN:VCALENDAR
PRODID:-//eluceo/ical//2.0/EN
VERSION:2.0
CALSCALE:GREGORIAN
BEGIN:VEVENT
UID:8065a4a81d725d3ae0b694f7334befdf
DTSTAMP:20260423T130819Z
SUMMARY:Konzultační dny pro firmy a podnikatele z Olomouckého kraje
DESCRIPTION:Název akce: Konzultační dny pro firmy a podnikatele z Olomou
 ckého kraje\nURL: https://www.spcr.cz/konzultacni-dny-pro-firmy-podnikate
 le-z-olomouckeho-kraje\nPopis: \n\nRegionální kancelář agentury CzechI
 nvest pro Olomoucký kraj ve spolupráci se Svazem průmyslu a dopravy\, A
 genturou pro podnikání a inovace\, Technologickou agenturou ČR\, Inova
 čním centrem Olomouckého kraje\, Krajským úřadem Olomouckého kraje 
 a Úřadem práce ČR si Vás dovolují pozvat na konzultační den pro fi
 rmy a podnikatele.\nChcete investovat do výzkumu a vývoje? Plánujete ro
 zšiřovat výrobu? Nebo potřebujete poradit\, jak na dotace? Připojte s
 e k nám a zjistěte informace od všech institucí na jednom místě a be
 zplatně!\nÚčast na prezentacích i individuální konzultaci je po Vaš
 í závazné registraci na Vámi vybraný termín a čas bezplatná. Regis
 trujte se  nejpozději do 16. května 2021.\n\nPozvánka ke stažení zde
 .\n
URL:https://www.spcr.cz/konzultacni-dny-pro-firmy-podnikatele-z-olomouckeho
 -kraje
DTSTART:20210518T000000
DTEND:20210519T235959
LOCATION:
END:VEVENT
END:VCALENDAR
