BEGIN:VCALENDAR
PRODID:-//eluceo/ical//2.0/EN
VERSION:2.0
CALSCALE:GREGORIAN
BEGIN:VEVENT
UID:7c080137966d0ae6db18ef4bf726fabd
DTSTAMP:20260423T125013Z
SUMMARY:12th Expo Central China 2021
DESCRIPTION:Název akce: 12th Expo Central China 2021\nURL: https://www.spc
 r.cz/12th-expo-central-china-2021\nPopis: \n\nVelvyslanectví ČLR v Praze
  informuje české firmy o možnosti účasti na 12. ročníku Expo Centra
 l China 2021 v provincii Shaanxi.\nVíce informací a kontakt najdete na s
 tránce 1 a stránce 2 pozvánky.\n
URL:https://www.spcr.cz/12th-expo-central-china-2021
DTSTART:20210521T000000
DTEND:20210523T235959
LOCATION:
END:VEVENT
END:VCALENDAR
