BEGIN:VCALENDAR
PRODID:-//eluceo/ical//2.0/EN
VERSION:2.0
CALSCALE:GREGORIAN
BEGIN:VEVENT
UID:d944af9423a78a0ff29b6cf9c271a85f
DTSTAMP:20260423T213028Z
SUMMARY:Online expanze na německý trh
DESCRIPTION:Název akce: Online expanze na německý trh\nURL: https://www.
 spcr.cz/online-expanze-na-nemecky-trh\nPopis: \n\nCílem semináře agentu
 ry CzechTrade je získání teoretických i praktických znalostí o něme
 ckém e-commerce.\nÚčastník bude po absolvování semináře schopen sp
 ustit e-shop splňující předpoklady pro úspěšný vstup na místní t
 rh. Pozná hlavní tržiště\, srovnávače cen\, náročnost prodeje a p
 ropagace na prodejních platformách.\nVíce informací a registrace\n
URL:https://www.spcr.cz/online-expanze-na-nemecky-trh
DTSTART:20210512T100000
DTEND:20210512T120000
LOCATION:
END:VEVENT
END:VCALENDAR
