BEGIN:VCALENDAR
PRODID:-//eluceo/ical//2.0/EN
VERSION:2.0
CALSCALE:GREGORIAN
BEGIN:VEVENT
UID:86f6da6f283bfac8a3552290f0791266
DTSTAMP:20260423T145950Z
SUMMARY:Online seminář: Exportní příležitosti v Karibiku
DESCRIPTION:Název akce: Online seminář: Exportní příležitosti v Kari
 biku\nURL: https://www.spcr.cz/online-seminar-exportni-prilezitosti-v-kari
 biku\nPopis: \n\nSpecifika a příležitosti Karibských ostrovů předsta
 ví vedoucí zahraniční kanceláře CzechTrade v Mexiku\, Tereza Vítkov
 á. O své zkušenosti se s posluchači semináře podělí také úspěš
 ný český exportér\, pan Karel Hák ze společnosti Miroslav Chuděj\, 
 s.r.o.\nVíce informací a registrace\n
URL:https://www.spcr.cz/online-seminar-exportni-prilezitosti-v-karibiku
DTSTART:20210511T150000
DTEND:20210511T163000
LOCATION:
END:VEVENT
END:VCALENDAR
