BEGIN:VCALENDAR
PRODID:-//eluceo/ical//2.0/EN
VERSION:2.0
CALSCALE:GREGORIAN
BEGIN:VEVENT
UID:6e2e70f8ce155f7bcf377aed5bb69751
DTSTAMP:20260423T145939Z
SUMMARY:Online konference: EU Trade Policy Day 2021
DESCRIPTION:Název akce: Online konference: EU Trade Policy Day 2021\nURL: 
 https://www.spcr.cz/online-konference-eu-trade-policy-day-2021\nPopis: \n\
 nDovolujeme si Vás pozvat na virtuální konferenci k nové obchodní pol
 itice Evropské unie EU Trade Policy Day 2021\, kterou pořádá Evropská
  komise 26. dubna od 9:00.\nKonferenci zahájí výkonný místopředseda 
 Evropské komise a komisař pro obchod Valdis Dombrovskis diskusí s gener
 ální ředitelkou Světové obchodní organizace Ngozi Okonjo-Iwealovou. 
 V rámci tří panelových diskusí vystoupí zástupci evropských instit
 ucí i podnikatelské sféry a budou diskutovat o transformaci ekonomiky E
 U v souladu s jejími zelenými a digitálními cíli\, vytváření glob
 álních pravidel pro udržitelnější a spravedlivější globalizaci a 
 zvyšování schopnosti EU prosazovat své zájmy.\nPlný program konferen
 ce je k dispozici na tomto odkazu.\nVíce informací lze nalézt na této 
 webové stránce\, kde bude k dispozici i odkaz na sledování video strea
 mu.\n \n
URL:https://www.spcr.cz/online-konference-eu-trade-policy-day-2021
DTSTART:20210426T090000
DTEND:20210426T163000
LOCATION:
END:VEVENT
END:VCALENDAR
