BEGIN:VCALENDAR
PRODID:-//eluceo/ical//2.0/EN
VERSION:2.0
CALSCALE:GREGORIAN
BEGIN:VEVENT
UID:1c0bd4db460653caa4a2301620e7348d
DTSTAMP:20260423T125132Z
SUMMARY:Online konference Digitální výroba 2021
DESCRIPTION:Název akce: Online konference Digitální výroba 2021\nURL: h
 ttps://www.spcr.cz/online-konference-digitalni-vyroba-2021\nPopis: \n\nZve
 me vás na online konferenci Digitální výroba 2021\, které Svaz průmy
 slu udělil opět záštitu.\n\nČeská republika již několik let čelí
  výzvám spojeným s digitalizací průmyslové výroby. Tuzemské podnik
 y se s novým trendem již střetávají a posouvají se od teorie ke konk
 rétním projektům. Tradiční konference Digitální výroba\, která ma
 puje fenomén Průmyslu 4.0\, se nesoustřeďuje pouze na teorii a věčn
 é polemizování nad tématem\, zda stojíme na prahu evoluce\, či revol
 uce\, ale odráží skutečný stav v českých výrobních podnicích\, z
 ájem o tuto problematiku a představuje aktuální dostupné technologie.
  Jedná se také o jednu z nejdéle trvajících konferencí právě na t
 éma Průmyslu 4.0.\nZa Svaz průmyslu a dopravy ČR vystoupí viceprezide
 nt Jan Rafaj.\nKonferenci je možné sledovat online zdarma\nRegistrujte s
 e zde. Více o konferenci na webu akce.\n
URL:https://www.spcr.cz/online-konference-digitalni-vyroba-2021
DTSTART:20210608T000000
DTEND:20210609T235959
LOCATION:
END:VEVENT
END:VCALENDAR
