BEGIN:VCALENDAR
PRODID:-//eluceo/ical//2.0/EN
VERSION:2.0
CALSCALE:GREGORIAN
BEGIN:VEVENT
UID:2e9079aa5b438d7ebd0c5549d55448aa
DTSTAMP:20260423T150144Z
SUMMARY:EU Brokerage Event on Digital and Industrial Technologies\, Mobilit
 y\, OITB & M-ERA.NET
DESCRIPTION:Název akce: EU Brokerage Event on Digital and Industrial Techn
 ologies\, Mobility\, OITB & M-ERA.NET\nURL: https://www.spcr.cz/eu-brokera
 ge-event-digital-and-industrial-technologies-mobility-oitb-m-eranet\nPopis
 : \n\nBavorská výzkumná aliance (BayFor)pořádá mezinárodní setkán
 í k využití EU výzev na podporu digitálních a průmyslových technol
 ogií.\nTopics: ICT (AI\, robotics\, quantum computing\, IoT)\, materials\
 , production\, batteries\, hydrogen and mobility in Horizon Europe | OITBs
  on lightweight materials | M-ERA.NETFormat: Enterprise Europe Network (EE
 N) Online Brokerage EventThe purpose of this Brokerage Event is to bring t
 ogether researchers\, innovators and entrepreneurs from academia and indus
 try (especially SMEs) from different countries in Europe to develop joint 
 proposals within Horizon Europe\, OITBs and M-ERA.NET\, with a special foc
 us on specific calls related to the thematic areas mentioned above.\nThe p
 reliminary agenda of the event can be found here.\n
URL:https://www.spcr.cz/eu-brokerage-event-digital-and-industrial-technolog
 ies-mobility-oitb-m-eranet
DTSTART:20210429T093000
DTEND:20210429T170000
LOCATION:
END:VEVENT
END:VCALENDAR
