BEGIN:VCALENDAR
PRODID:-//eluceo/ical//2.0/EN
VERSION:2.0
CALSCALE:GREGORIAN
BEGIN:VEVENT
UID:6c7887fadb7d0ebdd8003f63d2c2f46a
DTSTAMP:20260423T125131Z
SUMMARY:Podnikatelská mise do Indonésie
DESCRIPTION:Název akce: Podnikatelská mise do Indonésie\nURL: https://ww
 w.spcr.cz/podnikatelska-mise-do-indonesie-0\nPopis: \n\nDovolujeme si Vá
 s pozvat k účasti v podnikatelské misi Svazu průmyslu a dopravy ČR 
  – po více jak roční přestávce způsobené pandemií COVID 19  
 – která bude doprovázet ministra životního prostředí ČR Richarda
  Brabce a náměstkyni ministra průmyslu a obchodu ČR Martinu Tauberovou
  při oficiální návštěvě Indonéské republiky\, a to ve dnech 19.
  až 26. června 2021.\nPodle předběžného rámcového programu navšt
 íví delegace Jakartu\, město Medan a Banda Aceh na Sumatře. Svaz prům
 yslu a dopravy ČR zorganizuje ve spolupráci s Velvyslanectvím ČR v Ja
 kartě a s partnerskou organizací KADIN Indonesia (Indonéskou obchodní
  a průmyslovou komorou) podnikatelská fóra a B2B jednání ve všech t
 řech městech\, kde budou mít české firmy příležitost prezentovat 
 své výrobky a technologie zainteresovaným indonéským partnerům a dal
 ší doprovodný program.\nPokud jde o proti pandemická opatření\, tak 
 v tuto chvíli platí pro standardní vstup do Indonésie pětidenní kara
 nténa\, během které jsou absolvovány dva PCR testy\, ale oficiální n
 ávštěvy včetně podnikatelské delegace bude mít výjimku a omezení 
 by znamenalo jen PCR testy. Pandemická situace se v Indonésii zlepšuje
  a počítá se s postupným otevíráním země i pro turisty.\nZaměře
 ní podnikatelské mise bude zejména na udržitelné využívání zdroj
 ů\, na likvidaci a recyklaci plastových odpadů\, na zpracování odpad
 ů obecně\, na vodohospodářství\, čistění odpadních a průmyslově
  znečištěných vod a dále na sanaci po důlní činnosti a těžební 
 hospodářství a geologický průzkum. Účast v podnikatelské delegaci
  se nabízí rovněž firmám v oblasti energetiky\, zdravotnictví a farm
 aceutického průmyslu\, strojírenství a dopravní infrastruktury a z d
 alších oblastí dle rozpracovaných či plánovaných projektů firem.\n
 \nRámcový program cesty a další podrobnosti včetně účastnického 
 poplatku najdete v pozvánce zde.\nUzávěrka závazných přihlášek j
 e ve středu 28. dubna 2021.\nZávaznou podepsanou a naskenovanou přihl
 ášku prosíme zaslat e-mailem na adresu stancevova@spcr.cz. Současně
  s přihláškou je nutné vyplnit i elektronický formulář\, který n
 aleznete zde. Bez vyplnění elektronického formuláře nemůžeme Vaši
  přihlášku zpracovat.\nProsíme také o vyplnění jednoho vzorového 
 snímku v Powerpointu do společné prezentace. Bude sloužit pro předs
 tavení podnikatelské delegace na podnikatelských fórech během mise.\n
 \nPodnikatelskou misi organizačně zajišťuje manažerka Sekce mezináro
 dních vztahů Mgr. Sabina Tančevová (stancevova@spcr.cz). Bližší inf
 ormace Vám poskytneme na tel. 225 279 402.\n  \n
URL:https://www.spcr.cz/podnikatelska-mise-do-indonesie-0
DTSTART:20210619T000000
DTEND:20210626T235959
LOCATION:
END:VEVENT
END:VCALENDAR
