BEGIN:VCALENDAR
PRODID:-//eluceo/ical//2.0/EN
VERSION:2.0
CALSCALE:GREGORIAN
BEGIN:VEVENT
UID:c66fe0321960e6e4c8b9c3db016c730d
DTSTAMP:20260423T172433Z
SUMMARY:EU-Indie Digital Business Connect 
DESCRIPTION:Název akce: EU-Indie Digital Business Connect \nURL: https://w
 ww.spcr.cz/eu-indie-digital-business-connect\nPopis: \n\nV rámci programu
  s názvem  Dialog EU - INDIE v sektoru digitálního obchodu se uskuteč
 ní virtuální netoworkingová akce - EU-Indie Digital Business Connect -
  během které se budou konat virtuální B2B schůzky mezi indickými sub
 jekty orientovanými na digitální technolgie a těmi indickými\, a to z
 a za účelem podpory partnerství\, obchodu a spoluvytváření digitáln
 ích řešení pro globální trhy využívající sílu Evropy v oblasti 
 inovací a potenciálu indického trhu. Zainteresované indické společno
 sti\, které hledají digitální řešení a transformaci\, obchodní př
 íležitosti pro společný vývoj a obchodní spolupráci\, budou mít se
 tkání B2B s evropskými společnostmi v oblasti digitálních technologi
 í.  Akce se uskuteční ve čtvrtek 3. června 2020 od 11\,00 českého 
 času\,  je zdarma a bližší informace lze zjistit na webu https://www.
 globalbusinessinroads.com/news-details.php?sno=164&title=Europe-India%20Di
 gital%20Business%20Connect   Konec registrací je nastaven organizátory k
  8. květnu 2021. V případě zájmu o registraci se můžete obrátit na
  ZÚ Dillí: Milan Dostál  Obchodně - ekonomický rada  Commercial Econo
 mic CounsellorVelvyslanectví České republiky v Dillí  Embassy of the C
 zech Republic 50-M\, Niti Marg\, Chanakyapuri New Delhi - 110 021 INDIAWeb
 : www.mzv.cz/nd  Twitter: https://twitter.com/CZinIndia  Facebook: www.fb.
 com/czech.embassy.newdelhi Tel.:  +91 11 2415 5200 (Embassy)  Email: Mila
 n_Dostal@mzv.cz  \n \n
URL:https://www.spcr.cz/eu-indie-digital-business-connect
DTSTART:20210603T110000
DTEND:20210603T130000
LOCATION:
END:VEVENT
END:VCALENDAR
