BEGIN:VCALENDAR
PRODID:-//eluceo/ical//2.0/EN
VERSION:2.0
CALSCALE:GREGORIAN
BEGIN:VEVENT
UID:2317e9ff70a9e873e5e76e23624b5cbc
DTSTAMP:20260423T163131Z
SUMMARY:Veletrh BUS2BUS Special Edition
DESCRIPTION:Název akce: Veletrh BUS2BUS Special Edition\nURL: https://www.
 spcr.cz/veletrh-bus2bus-special-edition-0\nPopis: \n\nZveme Vás na mezin
 árodní veletrh BUS2BUS Speial Edition z Berlína.\nVíce informací\n
URL:https://www.spcr.cz/veletrh-bus2bus-special-edition-0
DTSTART:20210415T100000
DTEND:20210415T235959
LOCATION:
END:VEVENT
END:VCALENDAR
