BEGIN:VCALENDAR
PRODID:-//eluceo/ical//2.0/EN
VERSION:2.0
CALSCALE:GREGORIAN
BEGIN:VEVENT
UID:cc0a3b3a455494aca42bd91225a5551c
DTSTAMP:20260423T125843Z
SUMMARY:On-line obchodní fórum: Zelená energie v Africe
DESCRIPTION:Název akce: On-line obchodní fórum: Zelená energie v Africe
 \nURL: https://www.spcr.cz/line-obchodni-forum-zelena-energie-v-africe\nPo
 pis: \n\nZveme vás na digitální obchodní fórum\, které se bude věno
 vat zelené energii v Africe. Na akci budou mít firmy příležitost pře
 dstavit své obchodní aktivity a plány v oblasti zelených a udržiteln
 ých technologií\, které pomohou africkým zemím k dosažení uhlíkov
 é neutrality. V rámci akce se evropské společnosti budou moci zúčast
 nit virtuální výstavy\, workshopů a konferencí a navázat nové konta
 kty s obchodními partnery i se zástupci státní správy. \nObchodní f
 órum pořádá Evropská komise\, Africká unie a portugalské předsedni
 ctví v Radě EU. \nRegistrace je možná na tomto odkazu. Obchodní čá
 sti fóra bude 16. dubna předcházet konference o zelených investicích 
 v Africe\, která je též otevřena zájemcům z řad podnikatelské veř
 ejnosti. Registrace probíhá společně na obě akce najednou.\nVíce inf
 ormací naleznete v přiloženém letáku.\n
URL:https://www.spcr.cz/line-obchodni-forum-zelena-energie-v-africe
DTSTART:20210420T080000
DTEND:20210421T235959
LOCATION:
END:VEVENT
END:VCALENDAR
