BEGIN:VCALENDAR
PRODID:-//eluceo/ical//2.0/EN
VERSION:2.0
CALSCALE:GREGORIAN
BEGIN:VEVENT
UID:e089494ce3cc80280348702275773ccc
DTSTAMP:20260423T150324Z
SUMMARY:Jak COVID změnil svět průmyslových práv
DESCRIPTION:Název akce: Jak COVID změnil svět průmyslových práv\nURL:
  https://www.spcr.cz/jak-covid-zmenil-svet-prumyslovych-prav\nPopis: \n\nM
 inisterstvo průmyslu a obchodu ve spolupráci s Úřadem průmyslového v
 lastnictví pořádá  27. dubna 2021 od 9:00 do 11:30 webinář Jak COVI
 D změnil svět průmyslových práv.\nNa bezplatném webináři se mj. do
 zvíte potřebné informace o koncepci ochrany průmyslového vlastnictví
 \, o fungování průmyslověprávních databázích\, o nových možnoste
 ch pro podporu a správu průmyslových práv\, o významu mimosoudního 
 řešení sporů\, o patentech v online světě\, o patentech na léky\, o
  poptávce trhu a v neposlední řadě o možnostech finanční podpory in
 ovativních řešení státem.\nWebinář je určen především inovativn
 ím podnikatelům\, vývojářům a široké odborné veřejnosti. Registr
 ovat se můžete do 25. dubna 2021.\n
URL:https://www.spcr.cz/jak-covid-zmenil-svet-prumyslovych-prav
DTSTART:20210427T090000
DTEND:20210427T113000
LOCATION:
END:VEVENT
END:VCALENDAR
