BEGIN:VCALENDAR
PRODID:-//eluceo/ical//2.0/EN
VERSION:2.0
CALSCALE:GREGORIAN
BEGIN:VEVENT
UID:25e4ff455c27fc21076149e841fa2fe0
DTSTAMP:20260423T162959Z
SUMMARY:Online seminář: Aktuální možnosti obchodování s Čínou
DESCRIPTION:Název akce: Online seminář: Aktuální možnosti obchodován
 í s Čínou\nURL: https://www.spcr.cz/online-seminar-aktualni-moznosti-ob
 chodovani-s-cinou-0\nPopis: \n\nKteré obory nabízejí v současnosti nej
 větší obchodní příležitosti? Jak se připravit na vstup na čínsk
 ý trh? Jaké jsou obchodní zvyklosti v regionu\, nabídka služeb CzechT
 rade\, možnosti podpory českých firem\, připravované akce? ŽIVĚ s 
 řediteli zahraničních kanceláří CzechTrade v ČÍNĚ.\nVíce informa
 cí\n
URL:https://www.spcr.cz/online-seminar-aktualni-moznosti-obchodovani-s-cino
 u-0
DTSTART:20210428T100000
DTEND:20210428T113000
LOCATION:
END:VEVENT
END:VCALENDAR
