BEGIN:VCALENDAR
PRODID:-//eluceo/ical//2.0/EN
VERSION:2.0
CALSCALE:GREGORIAN
BEGIN:VEVENT
UID:4969622139ffc719157e730df8166692
DTSTAMP:20260423T145806Z
SUMMARY:Online seminář: Jak exportovat do Kolumbie – logistika a celní
  proces
DESCRIPTION:Název akce: Online seminář: Jak exportovat do Kolumbie – l
 ogistika a celní proces\nURL: https://www.spcr.cz/online-seminar-jak-expo
 rtovat-do-kolumbie-logistika-celni-proces\nPopis: \n\nPokračování seri
 álu seminářů o možnostech exportu do Kolumbie s úzkým zaměřením 
 na konkrétní problematiku\, tentokrát s ohledem na logistiku a celní p
 rocesy.Specifické téma přiblíží ředitel zahraniční kanceláře Cz
 echTrade v Bogotě\, Pavel Eichner a jeho hosté – místní specialista 
 na importní procesy a zkušený český exportér.\nVíce informací\n
URL:https://www.spcr.cz/online-seminar-jak-exportovat-do-kolumbie-logistika
 -celni-proces
DTSTART:20210427T150000
DTEND:20210427T163000
LOCATION:
END:VEVENT
END:VCALENDAR
