BEGIN:VCALENDAR
PRODID:-//eluceo/ical//2.0/EN
VERSION:2.0
CALSCALE:GREGORIAN
BEGIN:VEVENT
UID:b2b9f635eac62c6ac81211aa54dab523
DTSTAMP:20260423T125844Z
SUMMARY:Strojírenský veletrh HANNOVER MESSE (digitálně)
DESCRIPTION:Název akce: Strojírenský veletrh HANNOVER MESSE (digitálně
 )\nURL: https://www.spcr.cz/strojirensky-veletrh-hannover-messe-digitalne\
 nPopis: \n\nJako většina velkých akcí přesouvá také pořadatel nejv
 ětšího strojírenského veletrhu HANNOVER MESSE své dění do digitál
 ního světa.Od pondělí 12. 4. do pátku 16. 4. představí na strojíre
 nském veletrhu HANNOVER MESSE Digital Edition své novinky a inovace 1780
  vystavovatelů z celého světa.\nPro členy Svazu průmyslu a dopravy Č
 R nabízí pořadatel vstupenku na veletrh a konferenci zdarma. Pro získ
 ání registračního kódu se obraťte na pserakova@spcr.cz. \n
URL:https://www.spcr.cz/strojirensky-veletrh-hannover-messe-digitalne
DTSTART:20210412T000000
DTEND:20210416T235959
LOCATION:
END:VEVENT
END:VCALENDAR
