BEGIN:VCALENDAR
PRODID:-//eluceo/ical//2.0/EN
VERSION:2.0
CALSCALE:GREGORIAN
BEGIN:VEVENT
UID:6cdf2775d6d333568b1bde8c87a07876
DTSTAMP:20260423T125654Z
SUMMARY:Inovace & Udržitelnost v podnikání 2021
DESCRIPTION:Název akce: Inovace & Udržitelnost v podnikání 2021\nURL: h
 ttps://www.spcr.cz/inovace-udrzitelnost-v-podnikani-2021-0\nPopis: \n\nZve
 me Vás na akci Velvyslanectví Itálie v ČR a Italsko-české obchodní 
 a průmyslové komory Inovace & Udržitelnost v podnikání 2021\, která
  se uskuteční online 14. dubna 2021 od 10.00 na platformě Zoom.\nVíce 
 informací\n
URL:https://www.spcr.cz/inovace-udrzitelnost-v-podnikani-2021-0
DTSTART:20210414T100000
DTEND:20210414T112500
LOCATION:
END:VEVENT
END:VCALENDAR
