BEGIN:VCALENDAR
PRODID:-//eluceo/ical//2.0/EN
VERSION:2.0
CALSCALE:GREGORIAN
BEGIN:VEVENT
UID:0d79b9e6eaa929a2311573d206f6ab72
DTSTAMP:20260423T150053Z
SUMMARY:Webinář se zaměřením na inovace v Indii
DESCRIPTION:Název akce: Webinář se zaměřením na inovace v Indii\nURL:
  https://www.spcr.cz/webinar-se-zamerenim-na-inovace-v-indii-0\nPopis: \n\
 nKonzultační a poradenská firma European Business and Technology Center
  organizuje interaktivní webinář se zaměřením na inovace\, akce je t
 edy primárně určena pro podniky a instituce\, které jsou zaměřeny na
  výzkum a vývoj\, a které podnikají s Indií či přímo v Indii. Odpo
 vídá tomu i velice kvalitně obsazený program\, na kterém vystoupí hl
 avní vědecký poradce předsedy vlády\, Prof. VijayRaghavan\, tajemník
  jeho sekretaritáu p. Mitra\, generální ředitel Invest India\, velvysl
 anec EU v Indii p. Astuto či vevlyslanec Indie při EU\, p. Jha.   Účas
 t na webináři je zdarma. Pro registraci na něm prosíme kontaktujte ZÚ
  ČR v Dillí na e-mailu Commerce_Delhi@mzv.cz\n
URL:https://www.spcr.cz/webinar-se-zamerenim-na-inovace-v-indii-0
DTSTART:20210419T123000
DTEND:20210419T140000
LOCATION:
END:VEVENT
END:VCALENDAR
