BEGIN:VCALENDAR
PRODID:-//eluceo/ical//2.0/EN
VERSION:2.0
CALSCALE:GREGORIAN
BEGIN:VEVENT
UID:5dbd966b4d6b98873a109202d5140923
DTSTAMP:20260423T213659Z
SUMMARY:Slovenská kooperačná burza SARIO ONLINE květen 2021
DESCRIPTION:Název akce: Slovenská kooperačná burza SARIO ONLINE květen
  2021\nURL: https://www.spcr.cz/slovenska-kooperacna-burza-sario-online-kv
 eten-2021-0\nPopis: \n\nZveme Vás na každoroční akci „Slovenská koo
 peračná burza 2021 ONLINE“\, která 25. května letošního roku prob
 ěhne opět online. \nVíce informací\n
URL:https://www.spcr.cz/slovenska-kooperacna-burza-sario-online-kveten-2021
 -0
DTSTART:20210525T000000
DTEND:20210525T235959
LOCATION:
END:VEVENT
END:VCALENDAR
