BEGIN:VCALENDAR
PRODID:-//eluceo/ical//2.0/EN
VERSION:2.0
CALSCALE:GREGORIAN
BEGIN:VEVENT
UID:c80aaaa04efaa7f04e9fa998fdd566c5
DTSTAMP:20260423T145940Z
SUMMARY:Online seminář: Jak expandovat na rakouský trh
DESCRIPTION:Název akce: Online seminář: Jak expandovat na rakouský trh\
 nURL: https://www.spcr.cz/online-seminar-jak-expandovat-na-rakousky-trh\nP
 opis: \n\nAktuální zpravodajství a praktické informace pro české fir
 my od ředitelky zahraniční kanceláře CzechTrade v RAKOUSKU\, Julie Ha
 vlové a exportního ředitele firmy Fortemix\, Jakuba Havla – ŽIVĚ.\n
 Více informací a registrace\n
URL:https://www.spcr.cz/online-seminar-jak-expandovat-na-rakousky-trh
DTSTART:20210421T100000
DTEND:20210421T113000
LOCATION:
END:VEVENT
END:VCALENDAR
