BEGIN:VCALENDAR
PRODID:-//eluceo/ical//2.0/EN
VERSION:2.0
CALSCALE:GREGORIAN
BEGIN:VEVENT
UID:b12ea44f7cbaf025cd2f7a4457a8d799
DTSTAMP:20260423T145924Z
SUMMARY:Online jednání s TW výrobci produktů v boji proti COVID-19
DESCRIPTION:Název akce: Online jednání s TW výrobci produktů v boji pr
 oti COVID-19\nURL: https://www.spcr.cz/online-jednani-s-tw-vyrobci-produkt
 u-v-boji-proti-covid-19\nPopis: \n\nTchaj-pejská ekonomická a kulturní 
 kancelář zve k online jednání s tchajwanskými výrobci produktů v 
 boji proti COVID-19\, které organizuje TAITRA. Kontaktem pro přihlášen
 í je paní Liou Cecilia\, email: cecilialiou@gmail.com.\nIncoming on-line
  webinar on Apr. 7\, 2021 TAITRA will host \, which is Taiwan Anti-Epid
 emic Online Biz Meeting in Central & Eastern Europe and Middle East . The 
 webinar will serve as an important platform to reach the Taiwanese compan
 ies offering good quality Anti-Epidemic products\, including COVID-19 tes
 t kits.\n \n
URL:https://www.spcr.cz/online-jednani-s-tw-vyrobci-produktu-v-boji-proti-c
 ovid-19
DTSTART:20210407T090000
DTEND:20210407T130000
LOCATION:
END:VEVENT
END:VCALENDAR
