BEGIN:VCALENDAR
PRODID:-//eluceo/ical//2.0/EN
VERSION:2.0
CALSCALE:GREGORIAN
BEGIN:VEVENT
UID:b68a5f2ea7da262a1df852e3a960ca02
DTSTAMP:20260423T125523Z
SUMMARY:How to maximize profits from your creations with IPR in Latin Ameri
 ca – Cleantech sector
DESCRIPTION:Název akce: How to maximize profits from your creations with I
 PR in Latin America – Cleantech sector\nURL: https://www.spcr.cz/how-max
 imize-profits-your-creations-ipr-latin-america-cleantech-sector\nPopis: \n
 \nMinisterstvo průmyslu a obchodu ve spolupráci s Latin America IP SME H
 elpdesk organizuje online seminář k ochraně průmyslových práv v Lati
 nské Americe se zaměřeních na "čisté" technologie - "How to maximize
  profits from your creations with IPR in Latin America – Benefits for Cz
 ech businesses in the Cleantech sector".\nProgram akce a registrace\n
URL:https://www.spcr.cz/how-maximize-profits-your-creations-ipr-latin-ameri
 ca-cleantech-sector
DTSTART:20210330T100000
DTEND:20210330T111500
LOCATION:
END:VEVENT
END:VCALENDAR
