BEGIN:VCALENDAR
PRODID:-//eluceo/ical//2.0/EN
VERSION:2.0
CALSCALE:GREGORIAN
BEGIN:VEVENT
UID:a0599fb35d2c5ce0193a0049ffbce7d0
DTSTAMP:20260423T150144Z
SUMMARY:Exportní příležitosti ve Španělsku a vhodná marketingová st
 rategie pro místní trh
DESCRIPTION:Název akce: Exportní příležitosti ve Španělsku a vhodná
  marketingová strategie pro místní trh\nURL: https://www.spcr.cz/export
 ni-prilezitosti-ve-spanelsku-vhodna-marketingova-strategie-pro-mistni-trh\
 nPopis: \n\nZveme Vás na seminář "Online seminář: Exportní přílež
 itosti ve ŠPANĚLSKU a vhodná marketingová strategie pro místní trh" 
 agentury CzechTrade.\nVíce informací a registrace\n
URL:https://www.spcr.cz/exportni-prilezitosti-ve-spanelsku-vhodna-marketing
 ova-strategie-pro-mistni-trh
DTSTART:20210414T100000
DTEND:20210414T120000
LOCATION:
END:VEVENT
END:VCALENDAR
