BEGIN:VCALENDAR
PRODID:-//eluceo/ical//2.0/EN
VERSION:2.0
CALSCALE:GREGORIAN
BEGIN:VEVENT
UID:df05624f1a1b5095f19b70b796557a45
DTSTAMP:20260423T125131Z
SUMMARY:Europe at the Crossroads:  Open Cooperation or Protectionism?
DESCRIPTION:Název akce: Europe at the Crossroads:  Open Cooperation or Pro
 tectionism?\nURL: https://www.spcr.cz/europe-crossroads-open-cooperation-o
 r-protectionism\nPopis: \n\nFull agenda with speakers´profiles \nKeynote
 s\n
URL:https://www.spcr.cz/europe-crossroads-open-cooperation-or-protectionism
DTSTART:20210318T100000
DTEND:20210318T120000
LOCATION:
END:VEVENT
END:VCALENDAR
