BEGIN:VCALENDAR
PRODID:-//eluceo/ical//2.0/EN
VERSION:2.0
CALSCALE:GREGORIAN
BEGIN:VEVENT
UID:4c05fac89a8401306eec289aaf95e49a
DTSTAMP:20260423T125756Z
SUMMARY:Portál MOJE Daně: Co přinese pro firmy?
DESCRIPTION:Název akce: Portál MOJE Daně: Co přinese pro firmy?\nURL: h
 ttps://www.spcr.cz/portal-moje-dane-co-prinese-pro-firmy\nPopis: \n\nSP Č
 R připravil on-line seminář k tématu funkcionalit nového daňového p
 ortálu MOJE Daně pro firmy\, který proběhne 31. března 2021 od 13:00 
 hod.\nNový daňový portál je z pohledu Ministerstva financí reakcí na
  potřebu a nutnost digitalizovat agendu daní. Náběh portálu sice bude
  nejdříve cílit na funkcionality využívané převážně fyzickými o
 sobami\, ale následně je dlouhodobě nám slibováno\, že systém pomů
 že i podnikatelům\, jejichž daňová agenda je vice individualizovaná\
 , a tedy i náročnější.\nPřednášející a program\n\nHostem bude n
 áměstek Jiří Fojtík z Ministerstva financí ČR a Eva Horáková z Ge
 nerálního finančního ředitelství.\nBudou představeny výhody portá
 lu\, bude možné položit dotazy a diskutovat o možnostech portálu pro 
 firmy.\nMezi otázky\, které chceme řešit\, patří mimo jiné: Co to p
 řinese firemním účetním a interním/externím daňařům? Jaké funkc
 ionality zatím nebudou umožněny\, nebo umožněny dodatečně? Kde se v
 yskytují problémy? Kdo může být za firmu přítomen v portálu? Jaké
  jsou rozdíly mezi stávajícími systémy pro komunikaci se správcem da
 ně z pohledu firem? Jak bude nový portál komunikovat se stávajícími 
 elektronickými nástroji\, mezi něž patří datová schránka\, EPO\, r
 egistr DPH\, EET?\nModerování se ujme Jiří Nekovář\, předseda Exper
 tního týmu pro daně Svazu průmyslu. Účastníky za organizátory při
 vítá Bohuslav Čížek\, ředitel Sekce hospodářské politiky a zástu
 pce generální ředitelky Svazu.\n\nPozvánka ke stažení zde.\nRegistra
 ce\n\nRegistrovat se může přes on-line formulář. Po vyplnění regist
 račního formuláře obdržíte potvrzující informaci\, samotný semin
 ář bude on-line na ZOOMu). Účast je zdarma.\n\nKontakt\n\nV případě
  dotazů či technických problémů se obraťte na organizátora akce Vla
 dimíra Štípka (vstipek@spcr.cz).\n
URL:https://www.spcr.cz/portal-moje-dane-co-prinese-pro-firmy
DTSTART:20210331T130000
DTEND:20210331T150000
LOCATION:
END:VEVENT
END:VCALENDAR
