BEGIN:VCALENDAR
PRODID:-//eluceo/ical//2.0/EN
VERSION:2.0
CALSCALE:GREGORIAN
BEGIN:VEVENT
UID:b6118d92bb9644d797a41e2116eeafc6
DTSTAMP:20260423T162643Z
SUMMARY:Zahraniční obchod se zbožím a službami z pohledu uplatňován
 í DPH
DESCRIPTION:Název akce: Zahraniční obchod se zbožím a službami z pohl
 edu uplatňování DPH\nURL: https://www.spcr.cz/zahranicni-obchod-se-zboz
 im-sluzbami-z-pohledu-uplatnovani-dph\nPopis: \n\nCentrum pro regionální
  rozvoj ČR vás zve na webinář "Zahraniční obchod se zbožím a služ
 bami z pohledu uplatňování DPH" (on-line přes MS Teams).\nPřednáší
  Marek Reinoha\, poradce a specialista v oblasti cel\, uniního obchodu a 
 DPH\n\nPodrobnosti a registrace zde.\n\nObsah přednášky:1. SlužbyZákl
 adní pojmy\, základní pravidla poskytování služeb definovaná předp
 isy o DPH\; poskytování služeb do jiných členských zemí EU – defi
 nice místa zdanitelného plnění\, daňové doklady\; poskytování slu
 žeb do třetích zemí – definice místa zdanitelného plnění\, daňo
 vé doklady\; poskytování služeb osobami registrovanými v jiných čle
 nských zemích EU do tuzemska – definice místa zdanitelného plnění\
 , daňové doklady\, případy vzniku povinnosti přiznat DPH\; poskytová
 ní služeb ze třetích zemí – definice místa zdanitelného plnění\
 , daňové doklady\, případy vzniku povinnosti přiznat DPH.2. ZbožíPr
 oblematika DPH při provádění vnitrounijního obchodu se zbožím: dod
 ání zboží do jiné členské země EU osobám registrovaným k DPH (s 
 pohybem zboží\, bez pohybu zboží) – prokazování dodání zboží d
 o jiné členské země EU\, osvobození od DPH\; zasílání zboží (od 
 1.7. 2017 dodání zboží na dálku)\; dodání zboží do jiné člensk
 é země EU v rámci jedné osoby (přemístění obchodního majetku)\; p
 ořizování zboží z jiné členské země EU – místo zdanitelného p
 lnění\, daňové doklady\, vznik povinnosti přiznat daň\; dodávání 
 a pořizování zboží v rámci třístranných obchodů\; konsignační 
 sklady.Problematika DPH a celních předpisů při provádění mimounijn
 ího obchodu se zbožím: uplatňování DPH při dovozu a vývozu zboží
 \; praktické příklady obchodních operací.\nKontaktní osoba: Barbora 
 MUDRUŇKOVÁ\, e-mail: barbora.mudrunkova@crr.cz .\n
URL:https://www.spcr.cz/zahranicni-obchod-se-zbozim-sluzbami-z-pohledu-upla
 tnovani-dph
DTSTART:20210407T090000
DTEND:20210407T150000
LOCATION:
END:VEVENT
END:VCALENDAR
