BEGIN:VCALENDAR
PRODID:-//eluceo/ical//2.0/EN
VERSION:2.0
CALSCALE:GREGORIAN
BEGIN:VEVENT
UID:679f0e62392b96f7ce85a5c1593e3a60
DTSTAMP:20260423T162642Z
SUMMARY:Středy s EEN: Informační zdroje pro vysílání pracovníků
DESCRIPTION:Název akce: Středy s EEN: Informační zdroje pro vysílání
  pracovníků\nURL: https://www.spcr.cz/stredy-s-een-informacni-zdroje-pro
 -vysilani-pracovniku\nPopis: \n\nPraktický webinář bude zaměřen na in
 formační zdroje na internetu\, které se týkají přeshraničního posk
 ytování služeb a vysílání pracovníků v rámci EU/EHP a Švýcarsk
 a. Účastníci budou mimo jiné seznámeni s databází legislativy EU (
 eur-lex)\, s databází profesí regulovaných v zemích EU\, s odkazy 
 na ohlašovací procedury či národní infomační zdroje zemí EU.\nPře
 dnáší RNDr. Jitka Ryšavá\, tel.: 225 855 315\, e-mail: jitka
 .rysava@crr.cz\n\nRegistrace a podrobnosti zde.\n
URL:https://www.spcr.cz/stredy-s-een-informacni-zdroje-pro-vysilani-pracovn
 iku
DTSTART:20210421T100000
DTEND:20210421T110000
LOCATION:
END:VEVENT
END:VCALENDAR
