BEGIN:VCALENDAR
PRODID:-//eluceo/ical//2.0/EN
VERSION:2.0
CALSCALE:GREGORIAN
BEGIN:VEVENT
UID:e804c345bebf29568bb914dc44dc408d
DTSTAMP:20260423T130518Z
SUMMARY:Zaměstnávání cizinců v ČR v návaznosti na COVID-19
DESCRIPTION:Název akce: Zaměstnávání cizinců v ČR v návaznosti na C
 OVID-19\nURL: https://www.spcr.cz/zamestnavani-cizincu-v-cr-v-navaznosti-n
 a-covid-19\nPopis: \n\nWebinář poskytne potřebné informace o aktuáln
 í situaci v oblasti ekonomické migrace v návaznosti na COVID-19. Webin
 ář je určen především přímým zaměstnavatelům\, kteří hledají
  odpovědi na otázky\, jak legálně zaměstnávat kvalifikované zaměst
 nance z třetích zemí. Účast na webináři je bezplatná.\n\nPodrobnos
 ti a registrace zde.\n\nV případě zájmu se neváhejte registrovat vypl
 něním registračního formuláře do 23. března 2021. Přihlášeným 
 účastníkům bude následně zaslán link\, jehož prostřednictvím se 
 budou moci v den konání webináře připojit ke schůzce v aplikaci Micr
 osoft Teams.\nOrganizátoři: Ministerstvo průmyslu a obchodu ve spolupr
 áci s Ministerstvem zahraničních věcí\, Ministerstvem vnitra a Minist
 erstvem práce a sociálních věcí\n
URL:https://www.spcr.cz/zamestnavani-cizincu-v-cr-v-navaznosti-na-covid-19
DTSTART:20210324T090000
DTEND:20210324T123000
LOCATION:
END:VEVENT
END:VCALENDAR
