BEGIN:VCALENDAR
PRODID:-//eluceo/ical//2.0/EN
VERSION:2.0
CALSCALE:GREGORIAN
BEGIN:VEVENT
UID:b7a820ee23449640cef402b0a5468fe5
DTSTAMP:20260423T125940Z
SUMMARY:Středy s EEN: Bezpečnost práce v době pandemie
DESCRIPTION:Název akce: Středy s EEN: Bezpečnost práce v době pandemie
 \nURL: https://www.spcr.cz/stredy-s-een-bezpecnost-prace-v-dobe-pandemie\n
 Popis: \n\nJak se zachovat jako zaměstnavatel\, ale i zaměstnanec\, čeh
 o se vyvarovat\, jak při práci na dálku dbát na vlastní zdraví.\nKde
  si najít informace o praxi v boji s covidem v celé EU – seznámení s
  webem Evropské agentury na ochranu zdraví a bezpečnost při práci (EU
 -OSHA).\n\nInformace\, inspirace\, poučení\, zajímavé souvislosti.\n\n
 \nPřednáší PhDr. Marie Pavlů\, CSc.\, tel.: 225 855 316\, e-m
 ail: marie.pavlu@crr.cz.\n\n\nRegistrace a podrobnosti zde.\n
URL:https://www.spcr.cz/stredy-s-een-bezpecnost-prace-v-dobe-pandemie
DTSTART:20210414T100000
DTEND:20210414T110000
LOCATION:
END:VEVENT
END:VCALENDAR
