BEGIN:VCALENDAR
PRODID:-//eluceo/ical//2.0/EN
VERSION:2.0
CALSCALE:GREGORIAN
BEGIN:VEVENT
UID:de4fa6e8717f376edade1feabeacbf77
DTSTAMP:20260423T125837Z
SUMMARY:Středy s EEN: Vyhledávání v TED
DESCRIPTION:Název akce: Středy s EEN: Vyhledávání v TED\nURL: https://
 www.spcr.cz/stredy-s-een-vyhledavani-v-ted\nPopis: \n\nPraktický webiná
 ř představí stránky ted.europa.eu – jaké informace zde uživatelé 
 najdou a tipy a triky při vyhledávání v databázi TED\, která obsahuj
 e nadlimitní veřejné zakázky nejen z EU.\nPřednáší Mgr. Anna M
 ěrková\, tel.: 225 855 314\, e-mail: anna.merkova@crr.cz.\n\nRegis
 trace a podrobnosti zde.\n
URL:https://www.spcr.cz/stredy-s-een-vyhledavani-v-ted
DTSTART:20210331T100000
DTEND:20210331T110000
LOCATION:
END:VEVENT
END:VCALENDAR
