BEGIN:VCALENDAR
PRODID:-//eluceo/ical//2.0/EN
VERSION:2.0
CALSCALE:GREGORIAN
BEGIN:VEVENT
UID:1ec3b9c00b14aaf445e26f9ca4ce3175
DTSTAMP:20260423T130652Z
SUMMARY:Středy s EEN: Mezinárodní b2b akce v on-line prostředí
DESCRIPTION:Název akce: Středy s EEN: Mezinárodní b2b akce v on-line pr
 ostředí\nURL: https://www.spcr.cz/stredy-s-een-mezinarodni-b2b-akce-v-li
 ne-prostredi\nPopis: \n\nHledáte zahraniční spolupráci v současné sl
 ožité době? Využijte online b2b jednání organizovaná sítí Enterpr
 ise Europe Network (EEN). Připravujeme pro vás praktický webinář o sl
 užbách EEN\, mezinárodních b2b jednáních mezi firmami a jednoduchém
  online b2b nástroji\, který od loňského roku usnadňuje českým firm
 ám cestu k novým zahraničním partnerům.\nPřednáší Ing. Eva Hrube
 šová\, tel.: 225 855 312\, e-mail: eva.hrubesova@crr.cz.\n\n\nRegistrace
  a podrobnosti zde.\n
URL:https://www.spcr.cz/stredy-s-een-mezinarodni-b2b-akce-v-line-prostredi
DTSTART:20210317T100000
DTEND:20210317T110000
LOCATION:
END:VEVENT
END:VCALENDAR
